BEGIN:VCALENDAR
VERSION:2.0
PRODID:-//Opticalia Santander - ECPv6.15.13//NONSGML v1.0//EN
CALSCALE:GREGORIAN
METHOD:PUBLISH
X-ORIGINAL-URL:https://opticaliasantander.es
X-WR-CALDESC:Eventos para Opticalia Santander
REFRESH-INTERVAL;VALUE=DURATION:PT1H
X-Robots-Tag:noindex
X-PUBLISHED-TTL:PT1H
BEGIN:VTIMEZONE
TZID:UTC
BEGIN:STANDARD
TZOFFSETFROM:+0000
TZOFFSETTO:+0000
TZNAME:UTC
DTSTART:20250101T000000
END:STANDARD
END:VTIMEZONE
BEGIN:VEVENT
DTSTART;VALUE=DATE:20260425
DTEND;VALUE=DATE:20260426
DTSTAMP:20260421T134432
CREATED:20260410T062134Z
LAST-MODIFIED:20260410T062134Z
UID:3422-1777075200-1777161599@opticaliasantander.es
SUMMARY:SABADO LIBRANZA ALFONSO
DESCRIPTION:SABADO LIBRANZA INCENTIVOS MARZO 25/04
URL:https://opticaliasantander.es/evento/sabado-libranza-alfonso-2/
CATEGORIES:Día libre_Incentivos,Iñigo El Alisal
END:VEVENT
BEGIN:VEVENT
DTSTART;VALUE=DATE:20260425
DTEND;VALUE=DATE:20260426
DTSTAMP:20260421T134432
CREATED:20260410T062247Z
LAST-MODIFIED:20260410T062247Z
UID:3428-1777075200-1777161599@opticaliasantander.es
SUMMARY:SABADO LIBRANZA MIRIAM
DESCRIPTION:SABADO LIBRANZA INCENTIVOS MARZO 25/04
URL:https://opticaliasantander.es/evento/sabado-libranza-miriam-2/
CATEGORIES:Día libre_Incentivos,Iñigo El Alisal
END:VEVENT
END:VCALENDAR